BEGIN:VCALENDAR
VERSION:2.0
PRODID:-//CERN//INDICO//EN
BEGIN:VEVENT
SUMMARY:CEPC Staus towards TDR
DTSTART;VALUE=DATE-TIME:20191202T013000Z
DTEND;VALUE=DATE-TIME:20191202T020000Z
DTSTAMP;VALUE=DATE-TIME:20210806T191350Z
UID:indico-event-13@conference-indico.kek.jp
DESCRIPTION:https://conference-indico.kek.jp/event/100/sessions/13/
LOCATION:KEK San-go-kan 7th floor meeting room
URL:https://conference-indico.kek.jp/event/100/sessions/13/
END:VEVENT
END:VCALENDAR
