BEGIN:VCALENDAR
VERSION:2.0
PRODID:-//CERN//INDICO//EN
BEGIN:VEVENT
SUMMARY:CEPC SC Cavities R&D
DTSTART;VALUE=DATE-TIME:20191202T023000Z
DTEND;VALUE=DATE-TIME:20191202T030000Z
DTSTAMP;VALUE=DATE-TIME:20210806T191434Z
UID:indico-event-15@conference-indico.kek.jp
DESCRIPTION:https://conference-indico.kek.jp/event/100/sessions/15/
LOCATION:KEK San-go-kan 7th floor meeting room
URL:https://conference-indico.kek.jp/event/100/sessions/15/
END:VEVENT
END:VCALENDAR
