BEGIN:VCALENDAR
VERSION:2.0
PRODID:-//CERN//INDICO//EN
BEGIN:VEVENT
SUMMARY:High-Q and High-G Activities at KEK
DTSTART;VALUE=DATE-TIME:20191202T020000Z
DTEND;VALUE=DATE-TIME:20191202T023000Z
DTSTAMP;VALUE=DATE-TIME:20210806T191412Z
UID:indico-event-16@conference-indico.kek.jp
DESCRIPTION:https://conference-indico.kek.jp/event/100/sessions/16/
LOCATION:KEK San-go-kan 7th floor meeting room
URL:https://conference-indico.kek.jp/event/100/sessions/16/
END:VEVENT
END:VCALENDAR
