BEGIN:VCALENDAR
VERSION:2.0
PRODID:-//CERN//INDICO//EN
BEGIN:VEVENT
SUMMARY:KEK-PH Lectures and Workshops 2020
DTSTART;VALUE=DATE-TIME:20200701T010000Z
DTEND;VALUE=DATE-TIME:20210331T030000Z
DTSTAMP;VALUE=DATE-TIME:20210528T041241Z
UID:indico-event-117@conference-indico.kek.jp
DESCRIPTION:"KEK-PH lectures and workshops" is a form of KEK-PH workshop s
 eries at the time of Covid-19. \n\nThe annual KEK Theory Meeting on Partic
 le Physics Phenomenology (KEK-PH) covers many topics in Particle Physics a
 nd Cosmology\, from the Standard Model and models beyond it to particle co
 smology and astrophysics. At the time of Covid-19\, the KEK theory center 
 is organizing an on-line lecture and workshop series\, "KEK-PH lectures an
 d workshops 2020."\n\n \n\n\n1st KEK-PH Lectures on "Renormalon and Resur
 gence"\n\nProgram\n\nhttps://conference-indico.kek.jp/event/117/timetable/
 #day-2020-07-01\n\nLectures\n\nJul. 1\, 7: Dr. Hiromasa Takaura  (KEK)\, "
 Renormalon problem in QCD and a direction to go beyond perturbation theory
 "\n\nJul. 8\, 15:  Prof. Masazumi Honda (YITP)\, "Resummation of perturbat
 ive series and Resurgence in quantum field theory"\n\n\n2nd KEK-PH Lecture
 s and Workshop on "Collider"\n\nProgram\n\nhttps://conference-indico.kek.j
 p/event/117/timetable/#day-2020-08-04\n\nLectures\n\nAug. 4:  Prof. Miche
 al Peskin (SLAC)\, "Physics at e+e-collider"\n\nAug. 5:  Dr. Zhen Liu (Ma
 ryland)\, "Hadron collider Physics" \n\nWorkshop\n\nAug. 4.\n\n \n\nRyo Y
 onamine (ILC\, Tohoku) \nShigeki Matsumoto  (Kavli IPMU\, Tokyo)\nTomohi
 ro Abe (KMI\, Nagoya) \nNorimi Yokozaki (KEK)  \nSo Chigusa (KEK)\nShiny
 a Kanemura (Osaka)\nMichihisa Takeuchi (KMI\, Nagoya)\n\nAug. 5.\n\nCheng-
 Wei Chiang (NTU) \nSung Hak Lim (KEK)  \nTao Liu (HKUST)  \nLingfeng Li
  (HKUST)\n\nSoji Tsuno (ATLAS\, KEK)   \n\nSatoshi Shirai (Kavli IPMU\, T
 okyo) \n\nZeren Simon Wang (APCTP)\nYasuhito Sakaki  (KEK) \n\n \n\n\n
 \n3rd KEK-PH + KEK-Cosmo Joint Lectures and Workshop on "Dark Matter"\n\nP
 rogram\n\nhttps://conference-indico.kek.jp/event/117/timetable/#day-2020-1
 0-13\n\nLectures\n\nOct. 13\, 10:00-12:00: Prof. Kentaro Miuchi (Kobe Univ
 ersity)\, "Direct search of dark matter"\n\nOct. 21\, 16:00-18:00: Prof. G
 eorg Raffelt (Munich\, Max Planck Inst.)\, "Particle-physics constraints f
 rom stars"\n\nWorkshop\n\nOct. 13\, 13:00-17:40\n\nJongkuk Kim\nKohei Mats
 ushita\nYoshihiko Abe\nMasaki Yamada\n\nKento Asai\nNagisa Hiroshima\nKohe
 i Hayashi\nKazunori Kohri\n\nYevgeny Stadnik\nEmi Masaki\nNatsumi Nagata\n
 \n\n4th KEK-PH + KEK-Cosmo Joint Lectures and Workshop on "Gravitational W
 ave"\n\nProgram\n\nhttps://conference-indico.kek.jp/event/117/timetable/#d
 ay-2020-11-04\n\nLectures\n\nNov. 4\, 16:00-18:00\n\n16:00-17:00: Prof. Ma
 rk Hindmarsh (Sussex)\, "Gravitational waves from phase transitions at the
  electroweak scale"\n\n17:00-18:00: Dr. Ryusuke Jinno (DESY)\, "Gravitatio
 nal waves from first-order phase transitions: Towards a better prediction"
 \n\nShort Talks\n\nNov. 4\, 13:00-15:30\n\nTakahiro Terada (IBS)\, "NANOGr
 av and primordial black holes"\nSunao Sugiyama (Kavli IPMU\, Tokyo)\, "Tes
 ting stochastic gravitational wave signals by PBH microlensing"\nMasaki Ya
 mada (Tohoku)\, "NANOGrav and first-order phase transition in the early Un
 iverse"\nKeitaro Takahashi (Kumamoto)\, "Future measurements of stochastic
  gravitational wave background through pulsar timing by SKA"\n\n\n\n\n5th 
 KEK-PH Lectures on "Amplitude"\n\nProgram\n\nhttps://conference-indico.ke
 k.jp/event/117/timetable/#day-2020-12-01\n\nLectures\n\nDec. 1\, 10:00-12:
 00: Prof. Yu-Tin Huang (NTU)\, "An on-shell view of four-dimensional bla
 ckholes"\n\nDec. 2\, 10:00-12:00: Dr. Ryota Kojima (NTU)\, "Introduction t
 o the amplituhedron"\n\n\n6th KEK-PH Lectures on "Long-lived particles"\n
 \nProgram\n\nhttps://conference-indico.kek.jp/event/117/timetable/#day-202
 1-02-04\n\nLectures\n\nFeb. 4\, 17:00-18:30 : Prof. Mikhail Shaposhnikov
  (EPFL)\, "BSM Physics with Light Particles"\n\nFeb. 10\, 10:00-12:00: Dr
 . Yasuhito Sakaki (KEK)\, "Fixed target experiments using electron and p
 ositron beams"\n\n\n7th KEK-PH Lectures and Workshop on "Flavor"\n\nProgr
 am\n\nhttps://conference-indico.kek.jp/event/117/timetable/#day-2021-03-24
 \n\nLectures\n\nMar. 24\, 16:30-18:00 : Prof. Shoji Hashimoto (KEK)\, "F
 illing the gap between inclusive and exclusive processes"\n\nMar. 30\, 17:
 00-18:30: Dr. Danny van Dyk (TUM)\, "Exclusive b -> s mu mu Processes as 
 Precision Probes of the Standard Model"\n\nWorkshop\n\nMar. 24\, 13:00-15:
 50\n\nKohsaku Tobioka (Florida State University)\nDaiki Ueda (University o
 f Tokyo)\nKeisho Hidaka (Tokyo Gakugei University)\nTakashi Shimomura (Miy
 azaki University)\nMasato Yamanaka (Osaka City University)\nTakuya Morozum
 i (Hiroshima University)\nHiroyuki Umeeda (Academia Sinica)\n\n\nOrganizer
 s: So Chigusa\, Sung Hak Lim\, Motoi Endo\, Toru Goto\, Daisuke Harada\, 
 Hiroyuki Ishida\, Ryuichiro Kitano\, Kazunori Kohri\, Ryutaro Matsudo\, Hi
 roki Matsui\, Satoshi Mishima\, Mihoko M. Nojiri\, Hajime Otsuka\, Yutaka
  Sakamura\, Toyokazu Sekiguchi\, Hiromasa Takaura\, Ryo Yokokura\, Norimi 
 Yokozaki \n\n\n\n\n\nhttps://conference-indico.kek.jp/event/117/
LOCATION:
URL:https://conference-indico.kek.jp/event/117/
END:VEVENT
END:VCALENDAR
