BEGIN:VCALENDAR
VERSION:2.0
PRODID:-//CERN//INDICO//EN
BEGIN:VEVENT
SUMMARY:第21回 令和 2年度高エネルギー加速器研究機構技
 術職員シンポジウム
DTSTART;VALUE=DATE-TIME:20210120T230000Z
DTEND;VALUE=DATE-TIME:20210121T090000Z
DTSTAMP;VALUE=DATE-TIME:20210426T045314Z
UID:indico-event-118@conference-indico.kek.jp
DESCRIPTION:テーマ　：　「高度技術系専門職を目指すに
 は」\n　　　　　　　～エキスパートを育てる～\n\n \n\
 n開催日時：　令和 3 年 1月21日（木） 10:00～\n開催方法
 ：　オンライン\n\n\n参加費：　無料\n\n発表申込締め切
 り：　令和 2 年11月13日(金)\n\n\n\n　　　　　　お問い
 合わせは下記へお願い致します。\n　　　　　　　　　
 　eng-sympo2020＠ml.post.kek.jp　　　(＠を半角にして下さい)
 \n \n\n                                            
    技術職員シンポジウム実行委員会\n\n[ 開催案内 | 開
 催要領 | 参加申込 | プログラム |  報告資料 ] \n\n\n\n\n\nh
 ttps://conference-indico.kek.jp/event/118/
LOCATION:高エネルギー加速器研究機構（つくばキャンパ
 ス） 4号館1階セミナーホール
URL:https://conference-indico.kek.jp/event/118/
END:VEVENT
END:VCALENDAR
