BEGIN:VCALENDAR
VERSION:2.0
PRODID:-//CERN//INDICO//EN
BEGIN:VEVENT
SUMMARY:2020年度 ビーム物理研究会、若手の会
DTSTART;VALUE=DATE-TIME:20201208T040000Z
DTEND;VALUE=DATE-TIME:20201210T090000Z
DTSTAMP;VALUE=DATE-TIME:20210615T091314Z
UID:indico-event-121@conference-indico.kek.jp
DESCRIPTION:主催 : ビーム物理研究会・若手の会\n\n後援 : 
 日本加速器学会 \n\n実行委員長 : 栗木 雅夫 (広島大学)
 \n\n会期 : 2020年12月8日(火) 〜12月10日(木)\n\n会場 : 自宅
 、研究室等からZoomを利用する。\n\n研究会構成 : \n\n　
 　ビーム物理研究会 : 2020年12月8日(火) 〜12月9日(水)\n\n
 　　　　　　企画講演 : 久野良孝（大阪大学）　荷電
 レプトンフレーバー保存の破れと新物理の探究\n\n　　
 　　　　　　　　　山口尚登（LANL） 　　Armed Cathode Deve
 lopment\n\n　合同懇親会 (オンライン) : 12月9日(水) 18:30〜
 \n\n　　　　　　若手の会 : 12月9日(水)〜12月10日(木)\n\n
 発表申し込み期限 : 11月9日(月)\n\n参加申し込み期限 : 12
 月4日(金)\n\n参加申し込みへのリンク(ページ左カラムの
 registrationに飛びます)\n\n連絡先 : beam.youth.sec_at_gmail.com(_a
 t_を@に変更してください)\n\n備考 : \n\n\n	過去の研究会\
 n	ビーム物理通信（ビーム物理研究会のwebページ）\n	プ
 ログラムを公開しました。ここから（PDF）ダウンロー
 ドしてください。\n\n\nhttps://conference-indico.kek.jp/event/121/
LOCATION:
URL:https://conference-indico.kek.jp/event/121/
END:VEVENT
END:VCALENDAR
