BEGIN:VCALENDAR
VERSION:2.0
PRODID:-//CERN//INDICO//EN
BEGIN:VEVENT
SUMMARY:JT gravity mini-workshop
DTSTART;VALUE=DATE-TIME:20210316T042000Z
DTEND;VALUE=DATE-TIME:20210316T065500Z
DTSTAMP;VALUE=DATE-TIME:20210426T050029Z
UID:indico-event-137@conference-indico.kek.jp
DESCRIPTION: Jackiw-Teitelboim (JT)重力に関する研究会をオン
 ライン開催いたします。\n\n本研究会はZoomでのオンライ
 ン開催です。研究会に参加登録された方にZoomリンクを
 お送りします。\n\n\n ２次元のトポロジカルな重力理論
 であるJT重力は、matrix integralとの等価性の観点やSYK模型
 およびブラックホールとの関連などから近年盛んに研
 究されています。\n JT重力の活発な研究をされている
 明治学院大学の酒井一博さんをお招きし、JT重力の内容
 で講演頂きます。\n本研究会ではJT重力の進展に関する
 ２つの講演を予定しております。\n\n(講演は英語で行わ
 れます。)\n\nプログラム (敬称略)：\n13:20 – 13:30: 開会
 の挨拶\n13:30 – 14:30: 講演(酒井一博)\n14:30 – 14:45: 休憩\
 n14:45 – 15:45: 講演(木村裕介)\n15:45 – 15:55: 閉会の挨拶\n
 \n研究会に参加される方は本ウェブサイトよりご登録下
 さい。\n\n多くの方々のご参加をお待ちしております。\
 n\n世話人: 木村裕介 (KEK)\nE-mail: kimurayu[at]post.kek.jp  ([at]
 を@に変えて下さい)\n\nhttps://conference-indico.kek.jp/event/137/
LOCATION:
URL:https://conference-indico.kek.jp/event/137/
END:VEVENT
END:VCALENDAR
