BEGIN:VCALENDAR
VERSION:2.0
PRODID:-//CERN//INDICO//EN
BEGIN:VEVENT
SUMMARY:O42: Development of high-efficiency neutron imaging detector for n
 on-destructive test of next generation nuclear fuels
DTSTART:20180125T072500Z
DTEND:20180125T074500Z
DTSTAMP:20260424T194500Z
UID:indico-contribution-159@conference-indico.kek.jp
DESCRIPTION:Speakers: Yoshiyuki TAKAHASHI (Research Reactor Institute\, Ky
 oto University)\n\nhttps://conference-indico.kek.jp/event/14/contributions
 /159/
LOCATION:Kobayashi hall (KEK Tsukuba Campus)
RELATED-TO:indico-event-14@conference-indico.kek.jp
URL:https://conference-indico.kek.jp/event/14/contributions/159/
END:VEVENT
END:VCALENDAR
