BEGIN:VCALENDAR
VERSION:2.0
PRODID:-//CERN//INDICO//EN
BEGIN:VEVENT
SUMMARY:O43: Outline of the development of Nondestructive Methods Adopted 
 for Integrity Test of Next Generation Nuclear Fuels (N-DeMAIN)
DTSTART:20180125T074500Z
DTEND:20180125T080500Z
DTSTAMP:20260424T194500Z
UID:indico-contribution-160@conference-indico.kek.jp
DESCRIPTION:Speakers: KEN NAKAJIMA (Research Reactor Institute\, Kyoto Uni
 versity)\n\nhttps://conference-indico.kek.jp/event/14/contributions/160/
LOCATION:Kobayashi hall (KEK Tsukuba Campus)
RELATED-TO:indico-event-14@conference-indico.kek.jp
URL:https://conference-indico.kek.jp/event/14/contributions/160/
END:VEVENT
END:VCALENDAR
