BEGIN:VCALENDAR
VERSION:2.0
PRODID:-//CERN//INDICO//EN
BEGIN:VEVENT
SUMMARY:O40: Neutron distribution measurement by the self-activation of a 
 CsI plate with CCD camera using a decaying self-activation imaging techniq
 ue
DTSTART:20180125T065000Z
DTEND:20180125T071000Z
DTSTAMP:20260424T194500Z
UID:indico-contribution-161@conference-indico.kek.jp
DESCRIPTION:Speakers: Akihiro NOHTOMI (Department of Health Sciences\, Kyu
 shu University)\n\nhttps://conference-indico.kek.jp/event/14/contributions
 /161/
LOCATION:Kobayashi hall (KEK Tsukuba Campus)
RELATED-TO:indico-event-14@conference-indico.kek.jp
URL:https://conference-indico.kek.jp/event/14/contributions/161/
END:VEVENT
END:VCALENDAR
