BEGIN:VCALENDAR
VERSION:2.0
PRODID:-//CERN//INDICO//EN
BEGIN:VEVENT
SUMMARY:O38: Determination of emission rates and spectra of neutrons from 
 241Am-Li sources
DTSTART:20180125T061000Z
DTEND:20180125T063000Z
DTSTAMP:20260424T200400Z
UID:indico-contribution-163@conference-indico.kek.jp
DESCRIPTION:Speakers: Katsuya Hoshi (Japan Atomic Energy Agency)\n\nhttps:
 //conference-indico.kek.jp/event/14/contributions/163/
LOCATION:Kobayashi hall (KEK Tsukuba Campus)
RELATED-TO:indico-event-14@conference-indico.kek.jp
URL:https://conference-indico.kek.jp/event/14/contributions/163/
END:VEVENT
END:VCALENDAR
