BEGIN:VCALENDAR
VERSION:2.0
PRODID:-//CERN//INDICO//EN
BEGIN:VEVENT
SUMMARY:O39: Identification and quantification of nuclear nuclides using a
  pulsed neutron imaging technique
DTSTART:20180125T063000Z
DTEND:20180125T065000Z
DTSTAMP:20260424T200400Z
UID:indico-contribution-164@conference-indico.kek.jp
DESCRIPTION:Speakers: Daisuke ITO (Research Reactor Institute\, Kyoto Univ
 ersity)\n\nhttps://conference-indico.kek.jp/event/14/contributions/164/
LOCATION:Kobayashi hall (KEK Tsukuba Campus)
RELATED-TO:indico-event-14@conference-indico.kek.jp
URL:https://conference-indico.kek.jp/event/14/contributions/164/
END:VEVENT
END:VCALENDAR
