BEGIN:VCALENDAR
VERSION:2.0
PRODID:-//CERN//INDICO//EN
BEGIN:VEVENT
SUMMARY:O36: Determination of radiochemical yields of hydroxyl radical pro
 duction in water under low energy proton irradiation
DTSTART:20180125T051500Z
DTEND:20180125T053500Z
DTSTAMP:20260424T194500Z
UID:indico-contribution-165@conference-indico.kek.jp
DESCRIPTION:Speakers: Nicolas LUDWIG (IPHC\, UMR 7178\, CNRS\, Radiochimis
 try group\, Strasbourg\, France)\n\nhttps://conference-indico.kek.jp/event
 /14/contributions/165/
LOCATION:Kobayashi hall (KEK Tsukuba Campus)
RELATED-TO:indico-event-14@conference-indico.kek.jp
URL:https://conference-indico.kek.jp/event/14/contributions/165/
END:VEVENT
END:VCALENDAR
