BEGIN:VCALENDAR
VERSION:2.0
PRODID:-//CERN//INDICO//EN
BEGIN:VEVENT
SUMMARY:O37: Effective Atomic Number Estimation Using Current Mode Energy-
 Resolved Computed Tomography
DTSTART:20180125T053500Z
DTEND:20180125T055500Z
DTSTAMP:20260424T201000Z
UID:indico-contribution-166@conference-indico.kek.jp
DESCRIPTION:Speakers: Takumi Hamaguchi (Graduate School of Engineering\, K
 yoto University)\n\nhttps://conference-indico.kek.jp/event/14/contribution
 s/166/
LOCATION:Kobayashi hall (KEK Tsukuba Campus)
RELATED-TO:indico-event-14@conference-indico.kek.jp
URL:https://conference-indico.kek.jp/event/14/contributions/166/
END:VEVENT
END:VCALENDAR
