BEGIN:VCALENDAR
VERSION:2.0
PRODID:-//CERN//INDICO//EN
BEGIN:VEVENT
SUMMARY:O35: Development of an ultra-high resolution radiation imaging sys
 tem
DTSTART:20180125T045500Z
DTEND:20180125T051500Z
DTSTAMP:20260424T201000Z
UID:indico-contribution-168@conference-indico.kek.jp
DESCRIPTION:Speakers: Seiichi YAMAMOTO (Nagoya University Graduate School 
 of Medicine)\n\nhttps://conference-indico.kek.jp/event/14/contributions/16
 8/
LOCATION:Kobayashi hall (KEK Tsukuba Campus)
RELATED-TO:indico-event-14@conference-indico.kek.jp
URL:https://conference-indico.kek.jp/event/14/contributions/168/
END:VEVENT
END:VCALENDAR
