BEGIN:VCALENDAR
VERSION:2.0
PRODID:-//CERN//INDICO//EN
BEGIN:VEVENT
SUMMARY:O49: Readout Test of Plastic Scintillator with SiPM for the develo
 pment of Gamma-ray Burst Polarimeter
DTSTART:20180126T015500Z
DTEND:20180126T021500Z
DTSTAMP:20260424T201400Z
UID:indico-contribution-88@conference-indico.kek.jp
DESCRIPTION:Speakers: Shuichi Gunji (Yamagata University)\n\nhttps://confe
 rence-indico.kek.jp/event/14/contributions/88/
LOCATION:Kobayashi hall (KEK Tsukuba Campus)
RELATED-TO:indico-event-14@conference-indico.kek.jp
URL:https://conference-indico.kek.jp/event/14/contributions/88/
END:VEVENT
END:VCALENDAR
