BEGIN:VCALENDAR
VERSION:2.0
PRODID:-//CERN//INDICO//EN
BEGIN:VEVENT
SUMMARY:O48: Some Properties of Plastic Scintillators to Construct a LET S
 pectrometer
DTSTART:20180126T012000Z
DTEND:20180126T014000Z
DTSTAMP:20260424T194400Z
UID:indico-contribution-89@conference-indico.kek.jp
DESCRIPTION:Speakers: Nguyen Thuy Ngan TRAN (The Graduate University for A
 dvanced Studies (SOKENDAI))\n\nhttps://conference-indico.kek.jp/event/14/c
 ontributions/89/
LOCATION:Kobayashi hall (KEK Tsukuba Campus)
RELATED-TO:indico-event-14@conference-indico.kek.jp
URL:https://conference-indico.kek.jp/event/14/contributions/89/
END:VEVENT
END:VCALENDAR
