BEGIN:VCALENDAR
VERSION:2.0
PRODID:-//CERN//INDICO//EN
BEGIN:VEVENT
SUMMARY:O51: Dark Matter Search by means of highly radiopure NaI(Tl) scint
 illator
DTSTART:20180126T023500Z
DTEND:20180126T025500Z
DTSTAMP:20260424T194500Z
UID:indico-contribution-90@conference-indico.kek.jp
DESCRIPTION:Speakers: Ken-Ichi FUSHIMI (Department of Physics\, Tokushima 
 University)\n\nhttps://conference-indico.kek.jp/event/14/contributions/90/
LOCATION:Kobayashi hall (KEK Tsukuba Campus)
RELATED-TO:indico-event-14@conference-indico.kek.jp
URL:https://conference-indico.kek.jp/event/14/contributions/90/
END:VEVENT
END:VCALENDAR
