BEGIN:VCALENDAR
VERSION:2.0
PRODID:-//CERN//INDICO//EN
BEGIN:VEVENT
SUMMARY:O45: Light output\, energy resolution and timing characteristics o
 f Ce3+ doped scintillators
DTSTART:20180126T000000Z
DTEND:20180126T004000Z
DTSTAMP:20260424T201000Z
UID:indico-contribution-92@conference-indico.kek.jp
DESCRIPTION:Speakers: Weerapong Chewpraditkul\n\nhttps://conference-indico
 .kek.jp/event/14/contributions/92/
LOCATION:Kobayashi hall (KEK Tsukuba Campus)
RELATED-TO:indico-event-14@conference-indico.kek.jp
URL:https://conference-indico.kek.jp/event/14/contributions/92/
END:VEVENT
END:VCALENDAR
