BEGIN:VCALENDAR
VERSION:2.0
PRODID:-//CERN//INDICO//EN
BEGIN:VEVENT
SUMMARY:O44: Neutron spectrum measurement for 24 GeV/c proton on thick cop
 per target at CERN/CHARM
DTSTART:20180125T080500Z
DTEND:20180125T082500Z
DTSTAMP:20260424T201000Z
UID:indico-contribution-93@conference-indico.kek.jp
DESCRIPTION:Speakers: Toshiya SANAMI (KEK)\n\nhttps://conference-indico.ke
 k.jp/event/14/contributions/93/
LOCATION:Kobayashi hall (KEK Tsukuba Campus)
RELATED-TO:indico-event-14@conference-indico.kek.jp
URL:https://conference-indico.kek.jp/event/14/contributions/93/
END:VEVENT
END:VCALENDAR
