BEGIN:VCALENDAR
VERSION:2.0
PRODID:-//CERN//INDICO//EN
BEGIN:VEVENT
SUMMARY:O47: Development of dual time-over-threshold method for estimation
  of  scintillation decay time and energy
DTSTART:20180126T010000Z
DTEND:20180126T012000Z
DTSTAMP:20260424T201400Z
UID:indico-contribution-94@conference-indico.kek.jp
DESCRIPTION:Speakers: Ryosuke Ota (Hamamatsu Photonics K. K.)\n\nhttps://c
 onference-indico.kek.jp/event/14/contributions/94/
LOCATION:Kobayashi hall (KEK Tsukuba Campus)
RELATED-TO:indico-event-14@conference-indico.kek.jp
URL:https://conference-indico.kek.jp/event/14/contributions/94/
END:VEVENT
END:VCALENDAR
