BEGIN:VCALENDAR
VERSION:2.0
PRODID:-//CERN//INDICO//EN
BEGIN:VEVENT
SUMMARY:O46: Growth of organic crystals for neutron detection and their sc
 intillation properties
DTSTART:20180126T004000Z
DTEND:20180126T010000Z
DTSTAMP:20260424T201400Z
UID:indico-contribution-95@conference-indico.kek.jp
DESCRIPTION:Speakers: Akihiro Yamaji (Institute for Materials Research\, T
 ohoku University)\n\nhttps://conference-indico.kek.jp/event/14/contributio
 ns/95/
LOCATION:Kobayashi hall (KEK Tsukuba Campus)
RELATED-TO:indico-event-14@conference-indico.kek.jp
URL:https://conference-indico.kek.jp/event/14/contributions/95/
END:VEVENT
END:VCALENDAR
