BEGIN:VCALENDAR
VERSION:2.0
PRODID:-//CERN//INDICO//EN
BEGIN:VEVENT
SUMMARY:オンライン Belle Plus 2021 参加申し込み
DTSTART;VALUE=DATE-TIME:20210808T003000Z
DTEND;VALUE=DATE-TIME:20210812T033000Z
DTSTAMP;VALUE=DATE-TIME:20210614T061150Z
UID:indico-event-143@conference-indico.kek.jp
DESCRIPTION:共催：奈良教育大学、高エネルギー加速器研
 究機構\n\nBelle Plusホームページ：https://belle.kek.jp/b-camp/\n
 \n申し込み締切：6月27日（日）21:00\n\nhttps://conference-indic
 o.kek.jp/event/143/
LOCATION:
URL:https://conference-indico.kek.jp/event/143/
END:VEVENT
END:VCALENDAR
