BEGIN:VCALENDAR
VERSION:2.0
PRODID:-//CERN//INDICO//EN
BEGIN:VEVENT
SUMMARY:HPSS Collaboration Development Executive Committee Overview
DTSTART:20171020T000000Z
DTEND:20171020T003000Z
DTSTAMP:20260424T191300Z
UID:indico-contribution-382@conference-indico.kek.jp
DESCRIPTION:Speakers: Richard Watson (Lawrence Livermore National Laborato
 ry)\n\nThis talk will briefly review the 25 year history of the HPSS Colla
 boration\, the role of the HPSS Executive and Technical Committees\, the D
 OE development laboratories' high-performance computing five year plans\, 
 and HPSS plans for the next five years.\n\nhttps://conference-indico.kek.j
 p/event/28/contributions/382/
LOCATION:Seminar Hall (KEK Building K03)
RELATED-TO:indico-event-28@conference-indico.kek.jp
URL:https://conference-indico.kek.jp/event/28/contributions/382/
END:VEVENT
END:VCALENDAR
