BEGIN:VCALENDAR
VERSION:2.0
PRODID:-//CERN//INDICO//EN
BEGIN:VEVENT
SUMMARY:Lenovo Enterprise Solutions
DTSTART:20171019T043000Z
DTEND:20171019T045500Z
DTSTAMP:20260424T190800Z
UID:indico-contribution-386@conference-indico.kek.jp
DESCRIPTION:Speakers: Noriyasu Murata (Lenovo Enterprise Solutions)\n\nhtt
 ps://conference-indico.kek.jp/event/28/contributions/386/
LOCATION:Kobayashi Hall (KEK Building K03)
RELATED-TO:indico-event-28@conference-indico.kek.jp
URL:https://conference-indico.kek.jp/event/28/contributions/386/
END:VEVENT
END:VCALENDAR
