BEGIN:VCALENDAR
VERSION:2.0
PRODID:-//CERN//INDICO//EN
BEGIN:VEVENT
SUMMARY:KEK site report
DTSTART:20171019T053000Z
DTEND:20171019T060000Z
DTSTAMP:20260424T191200Z
UID:indico-contribution-387@conference-indico.kek.jp
DESCRIPTION:Speakers: Koichi Murakami (KEK)\n\nhttps://conference-indico.k
 ek.jp/event/28/contributions/387/
LOCATION:Seminar Hall (KEK Building K03)
RELATED-TO:indico-event-28@conference-indico.kek.jp
URL:https://conference-indico.kek.jp/event/28/contributions/387/
END:VEVENT
END:VCALENDAR
