BEGIN:VCALENDAR
VERSION:2.0
PRODID:-//CERN//INDICO//EN
BEGIN:VEVENT
SUMMARY:JAXA Site Presentation -Reliability of Data Management-
DTSTART:20171019T050000Z
DTEND:20171019T053000Z
DTSTAMP:20260424T191200Z
UID:indico-contribution-388@conference-indico.kek.jp
DESCRIPTION:Speakers: Naoyuki Fujita (JAXA)\n\nIn recent years\, large and
 /or unknown storage failures have occurred on JAXA's supercomputer.\nIn HU
 F2015 we reported silent data corruption on JAXA supercomputer file system
 .\nThis year we experienced file system failures on supercomputer file sys
 tem two times\, one HPSS cache disk failure\, and one-pair HPSS tape read 
 error. Are these storage system reliable? Should we change our system desi
 gn and/or operation policy?\n\nhttps://conference-indico.kek.jp/event/28/c
 ontributions/388/
LOCATION:Seminar Hall (KEK Building K03)
RELATED-TO:indico-event-28@conference-indico.kek.jp
URL:https://conference-indico.kek.jp/event/28/contributions/388/
END:VEVENT
END:VCALENDAR
