BEGIN:VCALENDAR
VERSION:2.0
PRODID:-//CERN//INDICO//EN
BEGIN:VEVENT
SUMMARY:HPSS Collaboration Website Review
DTSTART:20171017T030000Z
DTEND:20171017T031500Z
DTSTAMP:20260424T190800Z
UID:indico-contribution-401@conference-indico.kek.jp
DESCRIPTION:Speakers: Jim Gerry (IBM)\n\nhttps://conference-indico.kek.jp/
 event/28/contributions/401/
LOCATION:Seminar Hall (KEK Building K03)
RELATED-TO:indico-event-28@conference-indico.kek.jp
URL:https://conference-indico.kek.jp/event/28/contributions/401/
END:VEVENT
END:VCALENDAR
