BEGIN:VCALENDAR
VERSION:2.0
PRODID:-//CERN//INDICO//EN
BEGIN:VEVENT
SUMMARY:Discussion
DTSTART:20171019T004500Z
DTEND:20171019T013000Z
DTSTAMP:20260424T191200Z
UID:indico-contribution-403@conference-indico.kek.jp
DESCRIPTION:https://conference-indico.kek.jp/event/28/contributions/403/
LOCATION:Seminar Hall (KEK Building K03)
RELATED-TO:indico-event-28@conference-indico.kek.jp
URL:https://conference-indico.kek.jp/event/28/contributions/403/
END:VEVENT
END:VCALENDAR
