BEGIN:VCALENDAR
VERSION:2.0
PRODID:-//CERN//INDICO//EN
BEGIN:VEVENT
SUMMARY:HUF2018
DTSTART:20171020T020000Z
DTEND:20171020T021000Z
DTSTAMP:20260424T191200Z
UID:indico-contribution-408@conference-indico.kek.jp
DESCRIPTION:https://conference-indico.kek.jp/event/28/contributions/408/
LOCATION:Seminar Hall (KEK Building K03)
RELATED-TO:indico-event-28@conference-indico.kek.jp
URL:https://conference-indico.kek.jp/event/28/contributions/408/
END:VEVENT
END:VCALENDAR
