BEGIN:VCALENDAR
VERSION:2.0
PRODID:-//CERN//INDICO//EN
BEGIN:VEVENT
SUMMARY:IBM tapee product updates
DTSTART:20171019T024000Z
DTEND:20171019T032500Z
DTSTAMP:20260424T190800Z
UID:indico-contribution-409@conference-indico.kek.jp
DESCRIPTION:Speakers: Ed Childers (IBM)\, Lee Jesionowski (IBM)\n\nhttps:/
 /conference-indico.kek.jp/event/28/contributions/409/
LOCATION:Seminar Hall (KEK Building K03)
RELATED-TO:indico-event-28@conference-indico.kek.jp
URL:https://conference-indico.kek.jp/event/28/contributions/409/
END:VEVENT
END:VCALENDAR
