BEGIN:VCALENDAR
VERSION:2.0
PRODID:-//CERN//INDICO//EN
BEGIN:VEVENT
SUMMARY:Quarkonia production in pp\, p-Pb\, and Pb-Pb collisions
DTSTART;VALUE=DATE-TIME:20181116T061000Z
DTEND;VALUE=DATE-TIME:20181116T063000Z
DTSTAMP;VALUE=DATE-TIME:20210704T171136Z
UID:indico-contribution-560@conference-indico.kek.jp
DESCRIPTION:Speakers: ShinIchi Hayashi ()\nhttps://conference-indico.kek.j
 p/event/33/contributions/560/
LOCATION:Tsukuba International Congress Center Room 201A
URL:https://conference-indico.kek.jp/event/33/contributions/560/
END:VEVENT
END:VCALENDAR
