BEGIN:VCALENDAR
VERSION:2.0
PRODID:-//CERN//INDICO//EN
BEGIN:VEVENT
SUMMARY:Electroweak boson production measurements in p-Pb and Pb-Pb collis
 ions at sqrt(s_NN) = 5.02 TeV with ALICE
DTSTART;VALUE=DATE-TIME:20181116T053000Z
DTEND;VALUE=DATE-TIME:20181116T055000Z
DTSTAMP;VALUE=DATE-TIME:20210704T171047Z
UID:indico-contribution-686@conference-indico.kek.jp
DESCRIPTION:Speakers: Diego Stocco ()\nhttps://conference-indico.kek.jp/ev
 ent/33/contributions/686/
LOCATION:Tsukuba International Congress Center Room 201A
URL:https://conference-indico.kek.jp/event/33/contributions/686/
END:VEVENT
END:VCALENDAR
