BEGIN:VCALENDAR
VERSION:2.0
PRODID:-//CERN//INDICO//EN
BEGIN:VEVENT
SUMMARY:Registration
DTSTART:20180213T000000Z
DTEND:20180213T003000Z
DTSTAMP:20260424T205000Z
UID:indico-session-257@conference-indico.kek.jp
DESCRIPTION:https://conference-indico.kek.jp/event/38/sessions/257/
LOCATION:Building 3 1F\, Seminar Hall (KEK)
RELATED-TO:indico-event-38@conference-indico.kek.jp
URL:https://conference-indico.kek.jp/event/38/sessions/257/
END:VEVENT
END:VCALENDAR
