BEGIN:VCALENDAR
VERSION:2.0
PRODID:-//CERN//INDICO//EN
BEGIN:VEVENT
SUMMARY:D leptonic and semileptonic decays at BESIII
DTSTART:20190215T053000Z
DTEND:20190215T060000Z
DTSTAMP:20260424T231500Z
UID:indico-contribution-1030@conference-indico.kek.jp
DESCRIPTION:Speakers: Huijing Li\n\nhttps://conference-indico.kek.jp/event
 /50/contributions/1030/
LOCATION:KEK (Tsukuba)
RELATED-TO:indico-event-50@conference-indico.kek.jp
URL:https://conference-indico.kek.jp/event/50/contributions/1030/
END:VEVENT
END:VCALENDAR
