BEGIN:VCALENDAR
VERSION:2.0
PRODID:-//CERN//INDICO//EN
BEGIN:VEVENT
SUMMARY:Tests of lepton flavour universality in electroweak-penguin decays
  at LHCb
DTSTART:20190215T003000Z
DTEND:20190215T010000Z
DTSTAMP:20260424T231000Z
UID:indico-contribution-1052@conference-indico.kek.jp
DESCRIPTION:Speakers: Alex Seuthe\n\nhttps://conference-indico.kek.jp/even
 t/50/contributions/1052/
LOCATION:KEK (Tsukuba)
RELATED-TO:indico-event-50@conference-indico.kek.jp
URL:https://conference-indico.kek.jp/event/50/contributions/1052/
END:VEVENT
END:VCALENDAR
