BEGIN:VCALENDAR
VERSION:2.0
PRODID:-//CERN//INDICO//EN
BEGIN:VEVENT
SUMMARY:Quark Flavour Physics - status and perspectives
DTSTART:20190215T000000Z
DTEND:20190215T003000Z
DTSTAMP:20260424T231000Z
UID:indico-contribution-1053@conference-indico.kek.jp
DESCRIPTION:Speakers: Marco Ciuchini\n\nhttps://conference-indico.kek.jp/e
 vent/50/contributions/1053/
LOCATION:KEK (Tsukuba)
RELATED-TO:indico-event-50@conference-indico.kek.jp
URL:https://conference-indico.kek.jp/event/50/contributions/1053/
END:VEVENT
END:VCALENDAR
