BEGIN:VCALENDAR
VERSION:2.0
PRODID:-//CERN//INDICO//EN
BEGIN:VEVENT
SUMMARY:b -> s l l at Belle and Belle II
DTSTART:20190215T010000Z
DTEND:20190215T013000Z
DTSTAMP:20260424T231000Z
UID:indico-contribution-1055@conference-indico.kek.jp
DESCRIPTION:Speakers: Saurabh Sandilya\n\nhttps://conference-indico.kek.jp
 /event/50/contributions/1055/
LOCATION:KEK (Tsukuba)
RELATED-TO:indico-event-50@conference-indico.kek.jp
URL:https://conference-indico.kek.jp/event/50/contributions/1055/
END:VEVENT
END:VCALENDAR
