BEGIN:VCALENDAR
VERSION:2.0
PRODID:-//CERN//INDICO//EN
BEGIN:VEVENT
SUMMARY:phi1 and phi2 at Belle (II)
DTSTART:20190215T025000Z
DTEND:20190215T032000Z
DTSTAMP:20260424T231500Z
UID:indico-contribution-1056@conference-indico.kek.jp
DESCRIPTION:Speakers: Yusuke Yusa\n\nhttps://conference-indico.kek.jp/even
 t/50/contributions/1056/
LOCATION:KEK (Tsukuba)
RELATED-TO:indico-event-50@conference-indico.kek.jp
URL:https://conference-indico.kek.jp/event/50/contributions/1056/
END:VEVENT
END:VCALENDAR
