BEGIN:VCALENDAR
VERSION:2.0
PRODID:-//CERN//INDICO//EN
BEGIN:VEVENT
SUMMARY:Inclusive B meson decays from lattice QCD
DTSTART:20190214T084000Z
DTEND:20190214T110000Z
DTSTAMP:20260424T231000Z
UID:indico-contribution-1060@conference-indico.kek.jp
DESCRIPTION:Speakers: Shoji HASHIMOTO\n\nhttps://conference-indico.kek.jp/
 event/50/contributions/1060/
LOCATION:KEK (Tsukuba)
RELATED-TO:indico-event-50@conference-indico.kek.jp
URL:https://conference-indico.kek.jp/event/50/contributions/1060/
END:VEVENT
END:VCALENDAR
