BEGIN:VCALENDAR
VERSION:2.0
PRODID:-//CERN//INDICO//EN
BEGIN:VEVENT
SUMMARY:Development of the Belle II upgraded readout subsystem
DTSTART:20190214T084000Z
DTEND:20190214T110000Z
DTSTAMP:20260424T231000Z
UID:indico-contribution-1063@conference-indico.kek.jp
DESCRIPTION:Speakers: Qidong Zhou\n\nhttps://conference-indico.kek.jp/even
 t/50/contributions/1063/
LOCATION:KEK (Tsukuba)
RELATED-TO:indico-event-50@conference-indico.kek.jp
URL:https://conference-indico.kek.jp/event/50/contributions/1063/
END:VEVENT
END:VCALENDAR
