BEGIN:VCALENDAR
VERSION:2.0
PRODID:-//CERN//INDICO//EN
BEGIN:VEVENT
SUMMARY:Beam backgrounds on Belle II Silicon Vertex Detector
DTSTART:20190214T084000Z
DTEND:20190214T110000Z
DTSTAMP:20260425T010400Z
UID:indico-contribution-1064@conference-indico.kek.jp
DESCRIPTION:Speakers: Hikaru Tanigawa\n\nhttps://conference-indico.kek.jp/
 event/50/contributions/1064/
LOCATION:KEK (Tsukuba)
RELATED-TO:indico-event-50@conference-indico.kek.jp
URL:https://conference-indico.kek.jp/event/50/contributions/1064/
END:VEVENT
END:VCALENDAR
