BEGIN:VCALENDAR
VERSION:2.0
PRODID:-//CERN//INDICO//EN
BEGIN:VEVENT
SUMMARY:1st International School on Beam Dynamics and Accelerator Technolo
 gy
DTSTART;VALUE=DATE-TIME:20181125T230000Z
DTEND;VALUE=DATE-TIME:20181130T120000Z
DTSTAMP;VALUE=DATE-TIME:20210612T125229Z
UID:indico-event-56@conference-indico.kek.jp
DESCRIPTION:This is the 1st international school on Beam Dynamics and Acce
 lerator technology. Particle accelerator has been a powerful thrust on sci
 entific studies. The accelerator was used solely for nuclear and particle 
 physics for the first several decades\, but the usage was spread out to wi
 der fields soon. That includes not only other physics field such as materi
 al physics\, but also chemistry\, biology\, and many applications. Due to 
 the wide variety of the accelerator usage\, there is a strong demand for a
 ccelerator physicist and engineer from academic and industrial sectors. On
  the other hand\, opportunity to study foundations of accelerator which in
 clude beam dynamics\, accelerator design\, key technologies\, is very limi
 ted. This school is organized to provide the opportunity to study foundati
 ons of the beam dynamics and accelerator technology for graduate students 
 in Asian region. The school can be a gateway for further advanced studies 
 on the accelerator. Hiroshima university is one of the few universities in
  Japan which has the graduate school for accelerator study\; Beam physics
  and accelerator group in Graduate school for Advanced sciences of matter\
 , and HiSOR light source group have PhD courses with accelerator physics 
 and technology. It is our honor having the 1st International school on Bea
 m Dynamics and Accelerator Technology in Hiroshima. \n\n \n\nCurriculum:
  The school gives 4 lectures per day\, from 26 to 29 November. The subject
 s are:\n\nAccelerator in Modern Science\nHistory of Accelerator Developmen
 t\nFoundation of Synchrotron and storage ring\nFoundation of Linear Accele
 rator\nBeam Dynamics Foundation\nParticle Generation (electron\, positron\
 , and ion)\nFoundation of RF technology and NC Accelerator \nSuper Conduc
 ting Technology for Accelerator \nLaser Technology for accelerator\nFound
 ation of Colliders\nFoundation of SR facility\nFoundation of FEL\nFoundati
 on of Radiation process\nLaser Compton and its Application\nMedical Accele
 rator\n\nContact: isba@ml.post.kek.jp\n\nMasao KURIKI\nE-Mail: mkuriki@hi
 roshima-u.ac.jp\nTel: +81-82-424-7035\n\nAryshev ALEXANDER\nE-Mail: alar@
 post.kek.jp\n\nhttps://conference-indico.kek.jp/event/56/
LOCATION:Hiroshima International Plaza\, Higashi-Hiroshima\, Hiroshima\, J
 apan
URL:https://conference-indico.kek.jp/event/56/
END:VEVENT
END:VCALENDAR
