BEGIN:VCALENDAR
VERSION:2.0
PRODID:-//CERN//INDICO//EN
BEGIN:VEVENT
SUMMARY:Night session by students
DTSTART;VALUE=DATE-TIME:20181126T110000Z
DTEND;VALUE=DATE-TIME:20181126T120000Z
DTSTAMP;VALUE=DATE-TIME:20210612T125240Z
UID:indico-contribution-56-1221@conference-indico.kek.jp
DESCRIPTION:Speakers: Students ()\nhttps://conference-indico.kek.jp/event/
 56/contributions/1221/
LOCATION:Hiroshima International Plaza\, Higashi-Hiroshima\, Hiroshima\, J
 apan
URL:https://conference-indico.kek.jp/event/56/contributions/1221/
END:VEVENT
BEGIN:VEVENT
SUMMARY:Night session by students
DTSTART;VALUE=DATE-TIME:20181128T110000Z
DTEND;VALUE=DATE-TIME:20181128T120000Z
DTSTAMP;VALUE=DATE-TIME:20210612T125240Z
UID:indico-contribution-56-1226@conference-indico.kek.jp
DESCRIPTION:Speakers: Students ()\nhttps://conference-indico.kek.jp/event/
 56/contributions/1226/
LOCATION:Hiroshima International Plaza\, Higashi-Hiroshima\, Hiroshima\, J
 apan
URL:https://conference-indico.kek.jp/event/56/contributions/1226/
END:VEVENT
BEGIN:VEVENT
SUMMARY:Night session by students
DTSTART;VALUE=DATE-TIME:20181129T110000Z
DTEND;VALUE=DATE-TIME:20181129T120000Z
DTSTAMP;VALUE=DATE-TIME:20210612T125240Z
UID:indico-contribution-56-1227@conference-indico.kek.jp
DESCRIPTION:Speakers: STUDENTS ()\nhttps://conference-indico.kek.jp/event/
 56/contributions/1227/
LOCATION:Hiroshima International Plaza\, Higashi-Hiroshima\, Hiroshima\, J
 apan
URL:https://conference-indico.kek.jp/event/56/contributions/1227/
END:VEVENT
BEGIN:VEVENT
SUMMARY:Closing
DTSTART;VALUE=DATE-TIME:20181129T083000Z
DTEND;VALUE=DATE-TIME:20181129T084000Z
DTSTAMP;VALUE=DATE-TIME:20210612T125240Z
UID:indico-contribution-56-1229@conference-indico.kek.jp
DESCRIPTION:Speakers: Masao Kuriki ()\nhttps://conference-indico.kek.jp/ev
 ent/56/contributions/1229/
LOCATION:Hiroshima International Plaza\, Higashi-Hiroshima\, Hiroshima\, J
 apan
URL:https://conference-indico.kek.jp/event/56/contributions/1229/
END:VEVENT
END:VCALENDAR
