BEGIN:VCALENDAR
VERSION:2.0
PRODID:-//CERN//INDICO//EN
BEGIN:VEVENT
SUMMARY:Session 7-1:Present status of RE-123 superconducting wire developm
 ent at SSTC\, Y. Yamada (SSTC)
DTSTART:20190122T071500Z
DTEND:20190122T074500Z
DTSTAMP:20260424T204600Z
UID:indico-contribution-1242@conference-indico.kek.jp
DESCRIPTION:https://conference-indico.kek.jp/event/62/contributions/1242/
LOCATION:N. Amemiya
RELATED-TO:indico-event-62@conference-indico.kek.jp
URL:https://conference-indico.kek.jp/event/62/contributions/1242/
END:VEVENT
END:VCALENDAR
