BEGIN:VCALENDAR
VERSION:2.0
PRODID:-//CERN//INDICO//EN
BEGIN:VEVENT
SUMMARY:Session 6-1:Status of HTS wire and magnet activity in SuNAM\, Hunj
 u LEE (SuNAM) Video Cnference
DTSTART:20190122T050000Z
DTEND:20190122T053000Z
DTSTAMP:20260424T231800Z
UID:indico-contribution-1246@conference-indico.kek.jp
DESCRIPTION:https://conference-indico.kek.jp/event/62/contributions/1246/
LOCATION:T. Ogitsu
RELATED-TO:indico-event-62@conference-indico.kek.jp
URL:https://conference-indico.kek.jp/event/62/contributions/1246/
END:VEVENT
END:VCALENDAR
