BEGIN:VCALENDAR
VERSION:2.0
PRODID:-//CERN//INDICO//EN
BEGIN:VEVENT
SUMMARY:Session 6-2:Recent progress of DI-BSCCO wires and their magnet app
 lications\, K. Hayashi (SEI)
DTSTART:20190122T053000Z
DTEND:20190122T060000Z
DTSTAMP:20260424T231800Z
UID:indico-contribution-1247@conference-indico.kek.jp
DESCRIPTION:https://conference-indico.kek.jp/event/62/contributions/1247/
LOCATION:T. Ogitsu
RELATED-TO:indico-event-62@conference-indico.kek.jp
URL:https://conference-indico.kek.jp/event/62/contributions/1247/
END:VEVENT
END:VCALENDAR
