BEGIN:VCALENDAR
VERSION:2.0
PRODID:-//CERN//INDICO//EN
BEGIN:VEVENT
SUMMARY:Session 6-3:Recent Progress of 2G HTS wires and coils at Fujikura\
 , M. Daibo (Fujikura)
DTSTART:20190122T060000Z
DTEND:20190122T063000Z
DTSTAMP:20260424T231800Z
UID:indico-contribution-1248@conference-indico.kek.jp
DESCRIPTION:https://conference-indico.kek.jp/event/62/contributions/1248/
LOCATION:T. Ogitsu
RELATED-TO:indico-event-62@conference-indico.kek.jp
URL:https://conference-indico.kek.jp/event/62/contributions/1248/
END:VEVENT
END:VCALENDAR
