BEGIN:VCALENDAR
VERSION:2.0
PRODID:-//CERN//INDICO//EN
BEGIN:VEVENT
SUMMARY:Session 6-4:Overview of LTS and HTS activities at CEA\, Helene Fer
 ice(CEA) Video Conference
DTSTART:20190122T063000Z
DTEND:20190122T070000Z
DTSTAMP:20260424T232300Z
UID:indico-contribution-1249@conference-indico.kek.jp
DESCRIPTION:https://conference-indico.kek.jp/event/62/contributions/1249/
LOCATION:T. Ogitsu
RELATED-TO:indico-event-62@conference-indico.kek.jp
URL:https://conference-indico.kek.jp/event/62/contributions/1249/
END:VEVENT
END:VCALENDAR
