BEGIN:VCALENDAR
VERSION:2.0
PRODID:-//CERN//INDICO//EN
BEGIN:VEVENT
SUMMARY:Session 1-1:Opportunities and Threats for Next Generation Accelera
 tor Magnets"\, Steve Gourlay(LBL)
DTSTART:20190121T041500Z
DTEND:20190121T044500Z
DTSTAMP:20260424T205000Z
UID:indico-contribution-1253@conference-indico.kek.jp
DESCRIPTION:https://conference-indico.kek.jp/event/62/contributions/1253/
LOCATION:Toru Ogitsu
RELATED-TO:indico-event-62@conference-indico.kek.jp
URL:https://conference-indico.kek.jp/event/62/contributions/1253/
END:VEVENT
END:VCALENDAR
